BEGIN:VCALENDAR
VERSION:2.0
BEGIN:VEVENT
DTSTART:20260419T191427
DURATION:PT00H00M00S
SUMMARY:[DEADLINE] Δ1.  Απλό μοντέλο σε blender
DESCRIPTION:
BEGIN:VALARM
TRIGGER:-PT24H
DURATION:PT10H
ACTION:DISPLAY
DESCRIPTION:DEADLINE REMINDER for Δ1. Απλό μοντέλο σε blender
END:VALARM
END:VEVENT
BEGIN:VEVENT
DTSTART:20260419T191427
DURATION:PT00H00M00S
SUMMARY:[DEADLINE] 2Δ. Σφυρί σε Blender (modeling)
DESCRIPTION:
BEGIN:VALARM
TRIGGER:-PT24H
DURATION:PT10H
ACTION:DISPLAY
DESCRIPTION:DEADLINE REMINDER for 2Δ. Σφυρί σε Blender (modeling)
END:VALARM
END:VEVENT
BEGIN:VEVENT
DTSTART:20260419T191427
DURATION:PT00H00M00S
SUMMARY:[DEADLINE] 3Δ. Στυλό
DESCRIPTION:
BEGIN:VALARM
TRIGGER:-PT24H
DURATION:PT10H
ACTION:DISPLAY
DESCRIPTION:DEADLINE REMINDER for 3Δ. Στυλό
END:VALARM
END:VEVENT
BEGIN:VEVENT
DTSTART:20260419T191427
DURATION:PT00H00M00S
SUMMARY:[DEADLINE] 4Δ. Κουβάς
DESCRIPTION:
BEGIN:VALARM
TRIGGER:-PT24H
DURATION:PT10H
ACTION:DISPLAY
DESCRIPTION:DEADLINE REMINDER for 4Δ. Κουβάς
END:VALARM
END:VEVENT
END:VCALENDAR
