BEGIN:VCALENDAR
VERSION:2.0
BEGIN:VEVENT
DTSTART:20260419T210201
DURATION:PT00H00M00S
SUMMARY:[DEADLINE] ΣΧΕΔΙΟ ΨΥΚΤΙΚΩΝ  Νο 5
DESCRIPTION:
BEGIN:VALARM
TRIGGER:-PT24H
DURATION:PT10H
ACTION:DISPLAY
DESCRIPTION:DEADLINE REMINDER for ΣΧΕΔΙΟ ΨΥΚΤΙΚΩΝ Νο 5
END:VALARM
END:VEVENT
BEGIN:VEVENT
DTSTART:20260419T210201
DURATION:PT00H00M00S
SUMMARY:[DEADLINE] ΣΧΕΔΙΟ ΨΥΚΤΙΚΩΝ  Νο 4
DESCRIPTION:
BEGIN:VALARM
TRIGGER:-PT24H
DURATION:PT10H
ACTION:DISPLAY
DESCRIPTION:DEADLINE REMINDER for ΣΧΕΔΙΟ ΨΥΚΤΙΚΩΝ Νο 4
END:VALARM
END:VEVENT
BEGIN:VEVENT
DTSTART:20260419T210201
DURATION:PT00H00M00S
SUMMARY:[DEADLINE] ΔΙΑΣΤΑΣΕΙΣ ΓΙΑ ΤΟ 4ο ΣΧΕΔΙΟ ΣΕ Α4
DESCRIPTION:
BEGIN:VALARM
TRIGGER:-PT24H
DURATION:PT10H
ACTION:DISPLAY
DESCRIPTION:DEADLINE REMINDER for ΔΙΑΣΤΑΣΕΙΣ ΓΙΑ ΤΟ 4ο ΣΧΕΔΙΟ ΣΕ Α4
END:VALARM
END:VEVENT
BEGIN:VEVENT
DTSTART:20260419T210201
DURATION:PT00H00M00S
SUMMARY:[DEADLINE] ΣΧΕΔΙΟ ΨΥΚΤΙΚΩΝ  Νο 6
DESCRIPTION:
BEGIN:VALARM
TRIGGER:-PT24H
DURATION:PT10H
ACTION:DISPLAY
DESCRIPTION:DEADLINE REMINDER for ΣΧΕΔΙΟ ΨΥΚΤΙΚΩΝ Νο 6
END:VALARM
END:VEVENT
BEGIN:VEVENT
DTSTART:20260419T210201
DURATION:PT00H00M00S
SUMMARY:[DEADLINE] ΣΧΕΔΙΟ Νο 7
DESCRIPTION:
BEGIN:VALARM
TRIGGER:-PT24H
DURATION:PT10H
ACTION:DISPLAY
DESCRIPTION:DEADLINE REMINDER for ΣΧΕΔΙΟ Νο 7
END:VALARM
END:VEVENT
BEGIN:VEVENT
DTSTART:20260419T210201
DURATION:PT00H00M00S
SUMMARY:[DEADLINE] ΣΧΕΔΙΟ Νο 8
DESCRIPTION:
BEGIN:VALARM
TRIGGER:-PT24H
DURATION:PT10H
ACTION:DISPLAY
DESCRIPTION:DEADLINE REMINDER for ΣΧΕΔΙΟ Νο 8
END:VALARM
END:VEVENT
END:VCALENDAR
